BEGIN:VCALENDAR
VERSION:2.0
PRODID:SchoolNow
CALSCALE:GREGORIAN
BEGIN:VEVENT
UID:4aaf2dd6-3c89-11ea-bf9e-1273d4d5a125
DTSTAMP:20200121T202507Z
SUMMARY:Wrestling home vs. Reeths Puffer & Zealand
URL;VALUE=URI:https://www.hudsonvillepublicschools.org/rileystreet/athletic
 s/calendar/2184625/wrestling-home-vs-valleywood
DTSTART:20200130T210000Z
DTEND:20200131T000000Z
END:VEVENT
END:VCALENDAR
