BEGIN:VCALENDAR
VERSION:2.0
PRODID:SchoolNow
CALSCALE:GREGORIAN
BEGIN:VEVENT
UID:fc1e35ae-3c88-11ea-b031-0a05cf7e4e7f
DTSTAMP:20200121T202528Z
SUMMARY:Wrestling at Pinewood
URL;VALUE=URI:https://www.hudsonvillepublicschools.org/rileystreet/athletic
 s/calendar/2184624/wrestling-at-pinewood
DTSTART:20200211T210000Z
DTEND:20200212T000000Z
END:VEVENT
END:VCALENDAR
