BEGIN:VCALENDAR
VERSION:2.0
PRODID:SchoolNow
CALSCALE:GREGORIAN
BEGIN:VEVENT
UID:1d06a220-3c88-11ea-880b-0a05cf7e4e7f
DTSTAMP:20200121T195628Z
SUMMARY:Girls Basketball at Grand Haven Gold
URL;VALUE=URI:https://www.hudsonvillepublicschools.org/rileystreet/athletic
 s/calendar/2184623/girls-basketball-at-grand-haven-gold
DTSTART:20200309T200000Z
DTEND:20200309T230000Z
END:VEVENT
END:VCALENDAR
