BEGIN:VCALENDAR
VERSION:2.0
PRODID:SchoolNow
CALSCALE:GREGORIAN
BEGIN:VEVENT
UID:f9c3507e-3c87-11ea-847a-0a05cf7e4e7f
DTSTAMP:20200121T195529Z
SUMMARY:Girls Basketball home vs. Grand Haven
URL;VALUE=URI:https://www.hudsonvillepublicschools.org/rileystreet/athletic
 s/calendar/2184622/girls-basketball-home-vs-grand-haven
DTSTART:20200304T210000Z
DTEND:20200305T000000Z
END:VEVENT
END:VCALENDAR
