BEGIN:VCALENDAR
VERSION:2.0
PRODID:SchoolNow
CALSCALE:GREGORIAN
BEGIN:VEVENT
UID:d8645806-3c87-11ea-ab5e-0a05cf7e4e7f
DTSTAMP:20200121T195433Z
SUMMARY:Girls Basketball at Pinewood
URL;VALUE=URI:https://www.hudsonvillepublicschools.org/rileystreet/athletic
 s/calendar/2184621/girls-basketball-at-pinewood
DTSTART:20200302T210000Z
DTEND:20200303T000000Z
END:VEVENT
END:VCALENDAR
