BEGIN:VCALENDAR
VERSION:2.0
PRODID:SchoolNow
CALSCALE:GREGORIAN
BEGIN:VEVENT
UID:a9444a36-3c87-11ea-a00d-1224e1b33327
DTSTAMP:20200121T195314Z
SUMMARY:Girls Basketball at Byron Center
URL;VALUE=URI:https://www.hudsonvillepublicschools.org/rileystreet/athletic
 s/calendar/2184620/girls-basketball-at-byron-center
DTSTART:20200226T210000Z
DTEND:20200227T000000Z
END:VEVENT
END:VCALENDAR
