BEGIN:VCALENDAR
VERSION:2.0
PRODID:SchoolNow
CALSCALE:GREGORIAN
BEGIN:VEVENT
UID:7670b766-3c87-11ea-a1e2-0a5ab494694f
DTSTAMP:20200121T195149Z
SUMMARY:Girls Basketball home vs. Jenison
URL;VALUE=URI:https://www.hudsonvillepublicschools.org/rileystreet/athletic
 s/calendar/2184619/girls-basketball-home-vs-jenison
DTSTART:20200224T210000Z
DTEND:20200225T000000Z
END:VEVENT
END:VCALENDAR
