BEGIN:VCALENDAR
VERSION:2.0
PRODID:SchoolNow
CALSCALE:GREGORIAN
BEGIN:VEVENT
UID:9cc7a48e-3c81-11ea-8c70-0aca0aaa43a3
DTSTAMP:20200121T190956Z
SUMMARY:Girls Basketball home vs. Baldwin
URL;VALUE=URI:https://www.hudsonvillepublicschools.org/rileystreet/athletic
 s/calendar/2184569/girls-basketball-home-vs-baldwin
DTSTART:20200220T210000Z
DTEND:20200221T000000Z
END:VEVENT
END:VCALENDAR
