BEGIN:VCALENDAR
VERSION:2.0
PRODID:SchoolNow
CALSCALE:GREGORIAN
BEGIN:VEVENT
UID:32dff5e4-3c81-11ea-acc4-0a5ab494694f
DTSTAMP:20200121T190659Z
SUMMARY:Girls Basketball at West Ottawa
URL;VALUE=URI:https://www.hudsonvillepublicschools.org/rileystreet/athletic
 s/calendar/2184567/girls-basketball-at-west-ottawa
DTSTART:20200219T210000Z
DTEND:20200220T000000Z
END:VEVENT
END:VCALENDAR
