BEGIN:VCALENDAR
VERSION:2.0
PRODID:SchoolNow
CALSCALE:GREGORIAN
BEGIN:VEVENT
UID:e3520274-3c80-11ea-acfb-0aca0aaa43a3
DTSTAMP:20200121T190825Z
SUMMARY:Girls Basketball at Muskegon
URL;VALUE=URI:https://www.hudsonvillepublicschools.org/rileystreet/athletic
 s/calendar/2184566/girls-basketball-at-muskegon
DTSTART:20200212T210000Z
DTEND:20200213T000000Z
END:VEVENT
END:VCALENDAR
