BEGIN:VCALENDAR
VERSION:2.0
PRODID:SchoolNow
CALSCALE:GREGORIAN
BEGIN:VEVENT
UID:a6ebad58-3c80-11ea-a314-0a5ab494694f
DTSTAMP:20200121T190304Z
SUMMARY:Girls Basketball home vs. Zealand Creekside
URL;VALUE=URI:https://www.hudsonvillepublicschools.org/rileystreet/athletic
 s/calendar/2184564/girls-basketball-home-vs-zealand-creekside
DTSTART:20200211T210000Z
DTEND:20200212T000000Z
END:VEVENT
END:VCALENDAR
