BEGIN:VCALENDAR
VERSION:2.0
PRODID:SchoolNow
CALSCALE:GREGORIAN
BEGIN:VEVENT
UID:0544b690-3c7e-11ea-a6ad-0a05cf7e4e7f
DTSTAMP:20200121T184414Z
SUMMARY:Girls Basketball home vs. Grandville
URL;VALUE=URI:https://www.hudsonvillepublicschools.org/rileystreet/athletic
 s/calendar/2184556/girls-basketball-home-vs-grandville
DTSTART:20200121T210000Z
DTEND:20200122T000000Z
END:VEVENT
END:VCALENDAR
