BEGIN:VCALENDAR
VERSION:2.0
PRODID:SchoolNow
CALSCALE:GREGORIAN
BEGIN:VEVENT
UID:d8c1c310-3c7d-11ea-bb48-1269a7116adb
DTSTAMP:20200121T184259Z
SUMMARY:Girls Basketball home vs. Byron Center
URL;VALUE=URI:https://www.hudsonvillepublicschools.org/rileystreet/athletic
 s/calendar/2184555/girls-basketball-home-vs-byron-center
DTSTART:20200205T210000Z
DTEND:20200206T000000Z
END:VEVENT
END:VCALENDAR
