BEGIN:VCALENDAR
VERSION:2.0
PRODID:SchoolNow
CALSCALE:GREGORIAN
BEGIN:VEVENT
UID:b013f47e-3c7d-11ea-9f65-1269a7116adb
DTSTAMP:20200121T184151Z
SUMMARY:Girls Basketball at Valleywood
URL;VALUE=URI:https://www.hudsonvillepublicschools.org/rileystreet/athletic
 s/calendar/2184554/girls-basketball-at-valleywood
DTSTART:20200129T210000Z
DTEND:20200130T000000Z
END:VEVENT
END:VCALENDAR
