BEGIN:VCALENDAR
VERSION:2.0
PRODID:SchoolNow
CALSCALE:GREGORIAN
BEGIN:VEVENT
UID:9790268e-3b9c-11ea-9cac-0a5ab494694f
DTSTAMP:20200211T191801Z
SUMMARY:Boys Swim Conference Meet at Grand Haven
URL;VALUE=URI:https://www.hudsonvillepublicschools.org/rileystreet/athletic
 s/calendar/2183929/boys-swim-conference-meet-at-grand-haven
DTSTART:20200313T203000Z
DTEND:20200314T010000Z
END:VEVENT
END:VCALENDAR
