BEGIN:VCALENDAR
VERSION:2.0
PRODID:SchoolNow
CALSCALE:GREGORIAN
BEGIN:VEVENT
UID:656d7d1e-3b9c-11ea-aa46-0a5ab494694f
DTSTAMP:20200211T185415Z
SUMMARY:Boys Dive Conference Meet a Grand Haven
URL;VALUE=URI:https://www.hudsonvillepublicschools.org/rileystreet/athletic
 s/calendar/2183928/boys-dive-conference-meet-a-grand-haven
DTSTART:20200312T203000Z
DTEND:20200312T233000Z
END:VEVENT
END:VCALENDAR
