BEGIN:VCALENDAR
VERSION:2.0
PRODID:SchoolNow
CALSCALE:GREGORIAN
BEGIN:VEVENT
UID:ddab2a3e-3b9b-11ea-aa1d-12d67dcd13c9
DTSTAMP:20200227T144339Z
SUMMARY:Boys Swim & Dive at Zeeland West High School
URL;VALUE=URI:https://www.hudsonvillepublicschools.org/rileystreet/athletic
 s/calendar/2183927/boys-swim-dive-at-zeeland-cityside
DTSTART:20200303T210000Z
DTEND:20200303T230000Z
END:VEVENT
END:VCALENDAR
