BEGIN:VCALENDAR
VERSION:2.0
PRODID:SchoolNow
CALSCALE:GREGORIAN
BEGIN:VEVENT
UID:90df9366-3b9b-11ea-9ebb-0afc18c2407f
DTSTAMP:20200120T154312Z
SUMMARY:Boys Swim & Dive at Kentwood
URL;VALUE=URI:https://www.hudsonvillepublicschools.org/rileystreet/athletic
 s/calendar/2183926/boys-swim-dive-at-kentwood
DTSTART:20200127T200000Z
DTEND:20200127T230000Z
END:VEVENT
END:VCALENDAR
