BEGIN:VCALENDAR
VERSION:2.0
PRODID:SchoolNow
CALSCALE:GREGORIAN
BEGIN:VEVENT
UID:475dc014-3b9b-11ea-b088-123997405a4b
DTSTAMP:20200225T192538Z
SUMMARY:Boys Swim & Dive home vs. Holland Christian
URL;VALUE=URI:https://www.hudsonvillepublicschools.org/rileystreet/athletic
 s/calendar/2183925/boys-swim-dive
DTSTART:20200225T213000Z
DTEND:20200225T223000Z
END:VEVENT
END:VCALENDAR
