BEGIN:VCALENDAR
VERSION:2.0
PRODID:SchoolNow
CALSCALE:GREGORIAN
BEGIN:VEVENT
UID:1c2492c4-3b9b-11ea-91f6-0a5ab494694f
DTSTAMP:20200120T154134Z
SUMMARY:Boys Swim & Dive home vs. Jenison
URL;VALUE=URI:https://www.hudsonvillepublicschools.org/rileystreet/athletic
 s/calendar/2183924/boys-swim-dive-home-vs-jenison
DTSTART:20200220T210000Z
DTEND:20200220T230000Z
END:VEVENT
END:VCALENDAR
