BEGIN:VCALENDAR
VERSION:2.0
PRODID:SchoolNow
CALSCALE:GREGORIAN
BEGIN:VEVENT
UID:e6721a02-3b9a-11ea-bd0c-123997405a4b
DTSTAMP:20200120T153826Z
SUMMARY:Boys Swim & Dive home vs. Holland
URL;VALUE=URI:https://www.hudsonvillepublicschools.org/rileystreet/athletic
 s/calendar/2183923/boys-swim-dive-home-vs-holland
DTSTART:20200213T210000Z
DTEND:20200213T230000Z
END:VEVENT
END:VCALENDAR
