BEGIN:VCALENDAR
VERSION:2.0
PRODID:SchoolNow
CALSCALE:GREGORIAN
BEGIN:VEVENT
UID:fde8fce4-3b97-11ea-ac8f-123997405a4b
DTSTAMP:20200120T151737Z
SUMMARY:Boys Swim & Dive home vs. Byron Center
URL;VALUE=URI:https://www.hudsonvillepublicschools.org/rileystreet/athletic
 s/calendar/2183921/boys-swim-dive-home-vs-byron-center
DTSTART:20200210T210000Z
DTEND:20200210T230000Z
END:VEVENT
END:VCALENDAR
