BEGIN:VCALENDAR
VERSION:2.0
PRODID:SchoolNow
CALSCALE:GREGORIAN
BEGIN:VEVENT
UID:cdc086fe-3b97-11ea-8f81-12d67dcd13c9
DTSTAMP:20200120T151753Z
SUMMARY:Boys Swim & Dive at Hamilton
URL;VALUE=URI:https://www.hudsonvillepublicschools.org/rileystreet/athletic
 s/calendar/2183920/boys-swim-dive-at-hamilton
DTSTART:20200130T210000Z
DTEND:20200130T230000Z
END:VEVENT
END:VCALENDAR
