BEGIN:VCALENDAR
VERSION:2.0
PRODID:SchoolNow
CALSCALE:GREGORIAN
BEGIN:VEVENT
UID:39875ba2-3b97-11ea-957e-123997405a4b
DTSTAMP:20200120T151207Z
SUMMARY:Boys Swim & Dive at Grand Haven
URL;VALUE=URI:https://www.hudsonvillepublicschools.org/rileystreet/athletic
 s/calendar/2183919/boys-swim-dive-at-grand-haven
DTSTART:20200128T210000Z
DTEND:20200128T230000Z
END:VEVENT
END:VCALENDAR
