BEGIN:VCALENDAR
VERSION:2.0
PRODID:SchoolNow
CALSCALE:GREGORIAN
BEGIN:VEVENT
UID:d3a687a0-1845-11ea-9ee0-12ef2087ab4f
DTSTAMP:20191206T163144Z
SUMMARY:Competitive Cheer at Mona Shores Invitational
URL;VALUE=URI:https://www.hudsonvillepublicschools.org/rileystreet/athletic
 s/calendar/2156126/competitive-cheer-at-mona-shores-invitational
DTSTART:20191218T093000Z
DTEND:20191219T010000Z
END:VEVENT
END:VCALENDAR
