BEGIN:VCALENDAR
VERSION:2.0
PRODID:SchoolNow
CALSCALE:GREGORIAN
BEGIN:VEVENT
UID:14c39bba-16d9-11ea-a075-120c4cce7cd7
DTSTAMP:20191206T163242Z
SUMMARY:Competitive Cheer at Jenison
URL;VALUE=URI:https://www.hudsonvillepublicschools.org/rileystreet/athletic
 s/calendar/2154767/competitive-cheer-at-jenison
DTSTART:20191214T150000Z
DTEND:20191214T180000Z
END:VEVENT
END:VCALENDAR
