BEGIN:VCALENDAR
VERSION:2.0
PRODID:SchoolNow
CALSCALE:GREGORIAN
BEGIN:VEVENT
UID:361a7d32-16d5-11ea-80e8-120c4cce7cd7
DTSTAMP:20191204T203237Z
SUMMARY:Competitive Cheer at Rockford Invitational
URL;VALUE=URI:https://www.hudsonvillepublicschools.org/rileystreet/athletic
 s/calendar/2154677/competitive-cheer-at-rockford-invitational
DTSTART:20191207T150000Z
DTEND:20191207T180000Z
END:VEVENT
END:VCALENDAR
