BEGIN:VCALENDAR
VERSION:2.0
PRODID:SchoolNow
CALSCALE:GREGORIAN
BEGIN:VEVENT
UID:0c607e72-16d2-11ea-8803-12803cb6e6c7
DTSTAMP:20191204T200959Z
SUMMARY:Competitive Cheer at Grandville
URL;VALUE=URI:https://www.hudsonvillepublicschools.org/rileystreet/athletic
 s/calendar/2154648/competitive-cheer-at-grandville
DTSTART:20191204T223000Z
DTEND:20191205T013000Z
END:VEVENT
END:VCALENDAR
