BEGIN:VCALENDAR
VERSION:2.0
PRODID:SchoolNow
CALSCALE:GREGORIAN
BEGIN:VEVENT
UID:910fcdf8-fc10-11e9-ab2e-12bf35a966b4
DTSTAMP:20191111T143748Z
SUMMARY:Girls Swim Conference Meet at West Ottawa
URL;VALUE=URI:https://www.hudsonvillepublicschools.org/rileystreet/athletic
 s/calendar/2136990/girls-swim-conference-meet-at-west-ottawa
DTSTART:20191219T210000Z
DTEND:20191220T000000Z
END:VEVENT
END:VCALENDAR
