BEGIN:VCALENDAR
VERSION:2.0
PRODID:SchoolNow
CALSCALE:GREGORIAN
BEGIN:VEVENT
UID:01716864-fc10-11e9-a5ad-0abee46931d7
DTSTAMP:20191111T143712Z
SUMMARY:Girls Dive Conference Meet at West Ottawa
URL;VALUE=URI:https://www.hudsonvillepublicschools.org/rileystreet/athletic
 s/calendar/2136987/girls-dive-conference-meet-at-west-ottawa
DTSTART:20191218T210000Z
DTEND:20191218T230000Z
END:VEVENT
END:VCALENDAR
