BEGIN:VCALENDAR
VERSION:2.0
PRODID:SchoolNow
CALSCALE:GREGORIAN
BEGIN:VEVENT
UID:9636f24e-fc0f-11e9-af47-120d38d22dee
DTSTAMP:20191031T185228Z
SUMMARY:Girls Swim & Dive at East Kentwood
URL;VALUE=URI:https://www.hudsonvillepublicschools.org/rileystreet/athletic
 s/calendar/2136985/girls-swim-dive-at-east-kentwood
DTSTART:20191212T210000Z
DTEND:20191212T223000Z
END:VEVENT
END:VCALENDAR
