BEGIN:VCALENDAR
VERSION:2.0
PRODID:SchoolNow
CALSCALE:GREGORIAN
BEGIN:VEVENT
UID:f841c7ee-fc0e-11e9-babf-0abee46931d7
DTSTAMP:20191031T184803Z
SUMMARY:Girls Swim & Dive at Zeeland Cityside
URL;VALUE=URI:https://www.hudsonvillepublicschools.org/rileystreet/athletic
 s/calendar/2136983/girls-swim-dive-at-zeeland-cityside
DTSTART:20191210T210000Z
DTEND:20191210T223000Z
END:VEVENT
END:VCALENDAR
