BEGIN:VCALENDAR
VERSION:2.0
PRODID:SchoolNow
CALSCALE:GREGORIAN
BEGIN:VEVENT
UID:657acdd2-fc0b-11e9-b20b-0a805a8c903f
DTSTAMP:20191031T182228Z
SUMMARY:Girls Swim & Dive home vs. Holland Christian
URL;VALUE=URI:https://www.hudsonvillepublicschools.org/rileystreet/athletic
 s/calendar/2136965/girls-swim-dive-home-vs-holland-christian
DTSTART:20191205T210000Z
DTEND:20191205T223000Z
END:VEVENT
END:VCALENDAR
