BEGIN:VCALENDAR
VERSION:2.0
PRODID:SchoolNow
CALSCALE:GREGORIAN
BEGIN:VEVENT
UID:2b398758-fc0b-11e9-8de7-0a805a8c903f
DTSTAMP:20191031T182051Z
SUMMARY:Girls Swim and Dive home vs. Jenison
URL;VALUE=URI:https://www.hudsonvillepublicschools.org/rileystreet/athletic
 s/calendar/2136963/girls-swim-and-dive-home-vs-jenison
DTSTART:20191203T210000Z
DTEND:20191203T223000Z
END:VEVENT
END:VCALENDAR
