BEGIN:VCALENDAR
VERSION:2.0
PRODID:SchoolNow
CALSCALE:GREGORIAN
BEGIN:VEVENT
UID:ec7b451a-fc0a-11e9-94fc-0abee46931d7
DTSTAMP:20191031T181905Z
SUMMARY:Girls Swim & Dive home vs. Holland
URL;VALUE=URI:https://www.hudsonvillepublicschools.org/rileystreet/athletic
 s/calendar/2136962/girls-swim-dive-home-vs-holland
DTSTART:20191121T210000Z
DTEND:20191121T223000Z
END:VEVENT
END:VCALENDAR
