BEGIN:VCALENDAR
VERSION:2.0
PRODID:SchoolNow
CALSCALE:GREGORIAN
BEGIN:VEVENT
UID:c1e7f80c-fc0a-11e9-956a-12bf35a966b4
DTSTAMP:20191031T181754Z
SUMMARY:Girls Swim & Dive home vs. Byron Center
URL;VALUE=URI:https://www.hudsonvillepublicschools.org/rileystreet/athletic
 s/calendar/2136960/girls-swim-dive-home-vs-byron-center
DTSTART:20191112T210000Z
DTEND:20191112T223000Z
END:VEVENT
END:VCALENDAR
