BEGIN:VCALENDAR
VERSION:2.0
PRODID:SchoolNow
CALSCALE:GREGORIAN
BEGIN:VEVENT
UID:80a685ac-fc0a-11e9-b80f-0a805a8c903f
DTSTAMP:20191031T181604Z
SUMMARY:Girls Swim & Dive at Hamilton
URL;VALUE=URI:https://www.hudsonvillepublicschools.org/rileystreet/athletic
 s/calendar/2136959/girls-swim-dive-at-hamilton
DTSTART:20191107T210000Z
DTEND:20191107T223000Z
END:VEVENT
END:VCALENDAR
