BEGIN:VCALENDAR
VERSION:2.0
PRODID:SchoolNow
CALSCALE:GREGORIAN
BEGIN:VEVENT
UID:6b6ddcf4-fc09-11e9-afd9-0a805a8c903f
DTSTAMP:20191031T180819Z
SUMMARY:Girls Swim & Dive at Grand Haven
URL;VALUE=URI:https://www.hudsonvillepublicschools.org/rileystreet/athletic
 s/calendar/2136957/girls-swim-dive-at-grand-haven
DTSTART:20191105T210000Z
DTEND:20191105T230000Z
END:VEVENT
END:VCALENDAR
