BEGIN:VCALENDAR
VERSION:2.0
PRODID:SchoolNow
CALSCALE:GREGORIAN
BEGIN:VEVENT
UID:e4721c2e-fc08-11e9-92b3-120d38d22dee
DTSTAMP:20191031T180433Z
SUMMARY:Boys Basketball at West Ottawa
URL;VALUE=URI:https://www.hudsonvillepublicschools.org/rileystreet/athletic
 s/calendar/2136956/boys-basketball-at-west-ottawa
DTSTART:20191218T210000Z
DTEND:20191218T233000Z
END:VEVENT
END:VCALENDAR
