BEGIN:VCALENDAR
VERSION:2.0
PRODID:SchoolNow
CALSCALE:GREGORIAN
BEGIN:VEVENT
UID:8d943a18-fc08-11e9-abba-0abee46931d7
DTSTAMP:20191031T180207Z
SUMMARY:Boys Basketball home vs. Valleywood
URL;VALUE=URI:https://www.hudsonvillepublicschools.org/rileystreet/athletic
 s/calendar/2136955/boys-basketball-home-vs-valleywood
DTSTART:20191216T210000Z
DTEND:20191216T233000Z
END:VEVENT
END:VCALENDAR
