BEGIN:VCALENDAR
VERSION:2.0
PRODID:SchoolNow
CALSCALE:GREGORIAN
BEGIN:VEVENT
UID:6517caf0-fc08-11e9-a740-12703b65cce2
DTSTAMP:20191031T180059Z
SUMMARY:Boys Basketball at Pinewood
URL;VALUE=URI:https://www.hudsonvillepublicschools.org/rileystreet/athletic
 s/calendar/2136954/boys-basketball-at-pinewood
DTSTART:20191211T210000Z
DTEND:20191211T233000Z
END:VEVENT
END:VCALENDAR
