BEGIN:VCALENDAR
VERSION:2.0
PRODID:SchoolNow
CALSCALE:GREGORIAN
BEGIN:VEVENT
UID:3a4d1686-fc08-11e9-9dc7-12703b65cce2
DTSTAMP:20191031T175947Z
SUMMARY:Boys Basketball at Byron Center
URL;VALUE=URI:https://www.hudsonvillepublicschools.org/rileystreet/athletic
 s/calendar/2136953/boys-basketball-at-byron-center
DTSTART:20191209T210000Z
DTEND:20191209T233000Z
END:VEVENT
END:VCALENDAR
