BEGIN:VCALENDAR
VERSION:2.0
PRODID:SchoolNow
CALSCALE:GREGORIAN
BEGIN:VEVENT
UID:b2b9206c-fc06-11e9-b79b-12bf35a966b4
DTSTAMP:20191031T174850Z
SUMMARY:Boys Basketball home vs. Jenison
URL;VALUE=URI:https://www.hudsonvillepublicschools.org/rileystreet/athletic
 s/calendar/2136952/boys-basketball-home-vs-jenison
DTSTART:20191204T210000Z
DTEND:20191204T233000Z
END:VEVENT
END:VCALENDAR
