BEGIN:VCALENDAR
VERSION:2.0
PRODID:SchoolNow
CALSCALE:GREGORIAN
BEGIN:VEVENT
UID:8652511a-fc06-11e9-9a97-12bf35a966b4
DTSTAMP:20191031T174736Z
SUMMARY:Boys Basketball at Grand Haven Gold
URL;VALUE=URI:https://www.hudsonvillepublicschools.org/rileystreet/athletic
 s/calendar/2136951/boys-basketball-at-grand-haven-gold
DTSTART:20191203T210000Z
DTEND:20191203T233000Z
END:VEVENT
END:VCALENDAR
