BEGIN:VCALENDAR
VERSION:2.0
PRODID:SchoolNow
CALSCALE:GREGORIAN
BEGIN:VEVENT
UID:fd5b7758-fc03-11e9-9c5f-0abee46931d7
DTSTAMP:20191031T172927Z
SUMMARY:Boys Basketball home vs. Zeeland Creekside
URL;VALUE=URI:https://www.hudsonvillepublicschools.org/rileystreet/athletic
 s/calendar/2136938/boys-basketball-home-vs-zeeland-creekside
DTSTART:20191125T210000Z
DTEND:20191125T233000Z
END:VEVENT
END:VCALENDAR
