BEGIN:VCALENDAR
VERSION:2.0
PRODID:SchoolNow
CALSCALE:GREGORIAN
BEGIN:VEVENT
UID:bbdaa22c-fc03-11e9-8a22-12703b65cce2
DTSTAMP:20191031T173031Z
SUMMARY:Boys Basketball at Muskegon
URL;VALUE=URI:https://www.hudsonvillepublicschools.org/rileystreet/athletic
 s/calendar/2136937/boys-basketball-at-muskegon
DTSTART:20191121T210000Z
DTEND:20191121T233000Z
END:VEVENT
END:VCALENDAR
