BEGIN:VCALENDAR
VERSION:2.0
PRODID:SchoolNow
CALSCALE:GREGORIAN
BEGIN:VEVENT
UID:5756a18a-fc02-11e9-b8b0-0a805a8c903f
DTSTAMP:20191031T171739Z
SUMMARY:Boys Basketball home vs. Grandville
URL;VALUE=URI:https://www.hudsonvillepublicschools.org/rileystreet/athletic
 s/calendar/2136932/boys-basketball-home-vs-grandville
DTSTART:20191119T210000Z
DTEND:20191119T233000Z
END:VEVENT
END:VCALENDAR
