BEGIN:VCALENDAR
VERSION:2.0
PRODID:SchoolNow
CALSCALE:GREGORIAN
BEGIN:VEVENT
UID:0f6a9f84-fc02-11e9-a7ce-0a805a8c903f
DTSTAMP:20191031T171539Z
SUMMARY:Boys Basketball home vs. Byron Center
URL;VALUE=URI:https://www.hudsonvillepublicschools.org/rileystreet/athletic
 s/calendar/2136931/boys-basketball-home-vs-byron-center
DTSTART:20191114T210000Z
DTEND:20191114T233000Z
END:VEVENT
END:VCALENDAR
