BEGIN:VCALENDAR
VERSION:2.0
PRODID:SchoolNow
CALSCALE:GREGORIAN
BEGIN:VEVENT
UID:9380c04a-fbfe-11e9-a740-0a805a8c903f
DTSTAMP:20191031T171552Z
SUMMARY:Boys Basketball home vs. Baldwin
URL;VALUE=URI:https://www.hudsonvillepublicschools.org/rileystreet/athletic
 s/calendar/2136917/boys-basketball-home-vs-baldwin
DTSTART:20191112T210000Z
DTEND:20191112T233000Z
END:VEVENT
END:VCALENDAR
