BEGIN:VCALENDAR
VERSION:2.0
PRODID:SchoolNow
CALSCALE:GREGORIAN
BEGIN:VEVENT
UID:04bc2602-fbfd-11e9-99be-0a805a8c903f
DTSTAMP:20191031T163933Z
SUMMARY:Boys Basketball at Valleywood
URL;VALUE=URI:https://www.hudsonvillepublicschools.org/rileystreet/athletic
 s/calendar/2136913/boys-basketball-at-valleywood
DTSTART:20191107T210000Z
DTEND:20191107T233000Z
END:VEVENT
END:VCALENDAR
